Workbook

Sheet Ngân sách 
B1: Phụ lục B: | C1: NGÂN SÁCH
B3: Tên dự án: | C3: “Thí điểm các giải pháp quản lý chất thải rắn tổng hợp có khả năng nhân rộng tại đảo Cồn Cỏ, Việt Nam”
B4: Tên Đối tác thực hiện: | C4: Trung tâm Ứng dụng Công nghệ Tài nguyên và Môi trường
B5: Ngày bắt đầu: 01/03/2026 Ngày kết thúc: 31/07/2026 | D5: Tỷ giá áp dụng: 1USD=25,780 (Tỷ giá chuyển khoản Vietcombank, ngày 19/02/2026)
A8: Hoạt động | B8: Mô tả | D8: Ngân sách phân bổ theo hoạt động/Thời gian hoàn thành (US$) | N8: Tổng cộng (USD)
D9: 1. Nhân sự và các chí phí nhân sự khác (Nhóm 010) | F9: 2. Dịch vụ thuê ngoài (Nhóm 120) | H9: 3. Đi lại (Nhóm 160) | J9: 4. Chi phí hoạt động và các chi phí trực tiếp khác (Nhóm 125) | L9: 5. Vật tư, hàng hóa và nguyên liệu (Nhóm 130)
A11: 1 | B11: Tham vấn cộng đồng và đánh giá nhu cầu | D11: $ | E11: % | F11: $ | G11: % | H11: $ | I11: % | J11: $ | K11: % | L11: $ | M11: %
D12: ='Chi tiết'!C16 -> 2626.6874 | E12: =D12/26160 -> 0.10040854 | F12: ='Chi tiết'!D16 -> 387.8976 | G12: =F12/26160 -> 0.01482789 | H12: ='Chi tiết'!E16 -> 1065.4771 | I12: =H12/26160 -> 0.040729247 | J12: ='Chi tiết'!F16 -> 0 | K12: =J12/26160 -> 0 | L12: ='Chi tiết'!G16 -> 541 | M12: =L12/26160 -> 0.020680428
C14: Tổng | D14: =D12 -> 2626.6874 | E14: =E12 -> 0.10040854 | F14: =F12 -> 387.8976 | G14: =G12 -> 0.01482789 | H14: =H12 -> 1065.4771 | I14: =I12 -> 0.040729247 | J14: =J12 -> 0 | K14: =K12 -> 0 | ... M14: =M12 -> 0.020680428 | N14: =D14+F14+H14+J14+L14 -> 4621.0621
A15: 2 | B15: Nâng cao năng lực và tập huấn | D15: ='Chi tiết'!C33 -> 5254 | E15: =D15/26160 -> 0.20084098 | F15: ='Chi tiết'!D33 -> 7104.2172 | G15: =F15/26160 -> 0.27156794 | H15: ='Chi tiết'!E33 -> 3463.6928 | I15: =H15/26160 -> 0.13240416 | J15: ='Chi tiết'!F33 -> 0 | K15: =J15/26160 -> 0 | L15: ='Chi tiết'!G33 -> 500 | M15: =L15/26160 -> 0.01911315
C18: Tổng | D18: =D15 -> 5254 | E18: =E15 -> 0.20084098 | F18: =F15 -> 7104.2172 | G18: =G15 -> 0.27156794 | H18: =H15 -> 3463.6928 | I18: =I15 -> 0.13240416 | J18: =J15 -> 0 | K18: =K15 -> 0 | ... M18: =M15 -> 0.01911315 | N18: =D18+F18+H18+J18+L18 -> 16321.91
A19: 3 | B19: Phát triển hạ tầng và cung cấp vật tư | L19: ='Chi tiết'!G38 -> 8058.8244 | M19: =L19/26160 -> 0.30805904
C22: Tổng | L22: =SUM(L19:L21) -> 8058.8244 | N22: =SUM(D22:M22) -> 8058.8244
A23: 4 | B23: Xây dựng và phổ biến tài liệu hướng dẫn thu gom và quản lý chất thải cộng đồng | D23: ='Chi tiết'!C44 -> 4440 | E23: =D23/26160 -> 0.16972477 | F23: ='Chi tiết'!D44 -> 0 | G23: =F23/26160 -> 0 | H23: ='Chi tiết'!E44 -> 1065.4771 | I23: =H23/26160 -> 0.040729247 | J23: ='Chi tiết'!F44 -> 0 | K23: =J23/26160 -> 0 | L23: ='Chi tiết'!G44 -> 878.82079 | M23: =L23/26160 -> 0.033594067
C26: Tổng | D26: =D23 -> 4440 | E26: =E23 -> 0.16972477 | F26: =F23 -> 0 | G26: =G23 -> 0 | H26: =H23 -> 1065.4771 | I26: =I23 -> 0.040729247 | J26: =J23 -> 0 | K26: =K23 -> 0 | ... M26: =M23 -> 0.033594067 | N26: =D26+F26+H26+J26+L26 -> 6384.2979
A27: 5 | B27: Giám sát, đánh giá và báo cáo | D27: ='Chi tiết'!C55 -> 5254 | E27: =D27/26160 -> 0.20084098 | F27: ='Chi tiết'!D55 -> 387.8976 | G27: =F27/26160 -> 0.01482789 | H27: ='Chi tiết'!E55 -> 2374.5337 | I27: =H27/26160 -> 0.090769639 | J27: ='Chi tiết'!F55 -> 100 | K27: =J27/26160 -> 0.00382263
C30: Tổng | D30: =D27 -> 5254 | E30: =E27 -> 0.20084098 | F30: =F27 -> 387.8976 | G30: =G27 -> 0.01482789 | H30: =H27 -> 2374.5337 | I30: =I27 -> 0.090769639 | J30: =J27 -> 100 | K30: =K27 -> 0.00382263 | ... M30: =M27 -> 0 | N30: =D30+F30+H30+J30+L30 -> 8116.4313
A32: TỔNG | D32: =SUM(D14+D18+D22+D26+D30) -> 17574.687 | E32: =D32/N32 -> 0.40399234 | F32: =SUM(F14+F18+F22+F26+F30) -> 7880.0124 | G32: =F32/N32 -> 0.18113919 | H32: =SUM(H14+H18+H22+H26+H30) -> 7969.1808 | I32: =H32/N32 -> 0.18318892 | J32: =SUM(J14+J18+J22+J26+J30) -> 100 | K32: =J32/N32 -> 0.0022987171 | L32: =SUM(L14+L18+L22+L26+L30) -> 9978.6452 | M32: =L32/43442 -> 0.22970041 | N32: =SUM(N12:N31) -> 43502.526
A35: Nhóm cam kết | B35: Tên gọi nhóm cam kết | C35: Giải thích
A36: FT30_010 | B36: Nhân sự và các chi phí nhân sự khác | C36: (i) Bao gồm tất cả chi phí và quyền lợi của nhân sự, bao gồm: nhân viên, chuyên gia tư vấn, nhân viên hành chính, UNVs/thực tập sinh. (ii) Điều phối viên cuộc họp, phiên dịch viên, chuyên gia đánh giá đều phải được lập ngân sách trong nhóm này.
A37: FT30_120 | B37: Dịch vụ thuê ngoài | C37: (i) Các công việc và dịch vụ mang tính thương mại được ký hợp đồng theo quy trình mua sắm. Bao gồm cả hợp đồng ký với các NGO nếu mang tính chất mua sắm dịch vụ hơn là chuyển giao tài trợ. (ii) Khi thuê địa điểm tổ chức họp/hội thảo (ví dụ khách sạn), các chi phí liên quan được hạch toán vào nhóm này. (iii) Hợp đồng in ấn/xuất bản thương mại được đưa vào nhóm này. (iv) Theo thuật ngữ IPSAS, nhóm này tương tự như giao dịch trao đổi (exchange transaction).
A38: FT30_160 | B38: Đi lại | C38: (i) Bao gồm chi phí đi lại của nhân viên/chuyên gia/đối tượng tham gia họp [DSA/Vé/Chi phí bến bãi nếu áp dụng]. (ii) Chi phí đường bộ/nhiên liệu/thuê xe/thuê tàu cho nhân viên, chuyên gia và nhân sự dự án khác.
A39: FT30_135 | B39: Trang thiết bị, phương tiện và nội thất | C39: (i) Mua sắm tài sản không tiêu hao (ví dụ: thiết bị, phương tiện, nội thất…). Bao gồm toàn bộ chi phí để đưa tài sản vào sử dụng và chi phí thanh lý khi tài sản hết vòng đời. Đối với đơn vị thực hiện báo cáo theo IPSAS, khoản này tương đương khấu hao theo kỳ.
A40: FT30_125 | B40: Chi phí hoạt động và các chi phí trực tiếp khác | C40: (i) Thuê địa điểm/thiết bị; chi phí tiện ích; vệ sinh; bảo dưỡng phương tiện; chi phí liên lạc; phí ngân hàng.
A41: FT30_130 | B41: Vật tư, hàng hóa và nguyên liệu | C41: (i) Vật tư tiêu hao như văn phòng phẩm/dụng cụ/thuốc/công cụ… (ii) Các chi phí liên quan đến giao hàng, lưu trữ và phân phối vật tư tiêu hao như vận chuyển, cước phí, hải quan, bảo hiểm, lưu kho và các yêu cầu hậu cần khác.
A42: FT30_140 | B42: Chuyển giao và tài trợ cho các cấp đối tác | C42: Sử dụng khi đối tác SSFA/PCA tiếp tục ký hợp đồng phụ với các NGO. Ở giai đoạn cam kết (PO), có thể chia nhỏ thành 7 nhóm chi tiêu như nêu trên.
A43: FT30_150 | B43: UN-PSC | C43: Chi phí Hỗ trợ Chương trình do UNEP thu. Không có mã đối tượng IMIS tương ứng, tuy nhiên từ cuối năm 2014 bắt đầu sử dụng mã 9400.
A44: FT30_145 | B44: Cấp tài trợ trực tiếp | C44: Sử dụng khi cấp tài trợ mà không yêu cầu bất kỳ báo cáo nào. Hiện nay UNEP không sử dụng hình thức này.

Sheet Chi tiết
B1: NGÂN SÁCH DỰ ÁN
B3: Tên dự án: | C3: “Thí điểm các giải pháp quản lý chất thải rắn tổng hợp có khả năng nhân rộng tại đảo Cồn Cỏ, Việt Nam”
B4: Tên Đối tác thực hiện: | C4: Trung tâm Ứng dụng Công nghệ Tài nguyên và Môi trường
B5: Ngày bắt đầu: 01/03/2026 Ngày kết thúc: 31/07/2026 | C5: 1USD=25,780 (Tỷ giá CK Vietcombank, ngày 19/02/2026
C6: USD
A7: Hoạt động | C7: Nhân sự và các chí phí nhân sự khác | D7: Dịch vụ thuê ngoài | E7: Đi lại | F7: Chi phí hoạt động và các chi phí trực tiếp khác | G7: Vật tư, hàng hóa và nguyên liệu | H7: Tổng | I7: Ghi chú
A8: 1 | B8: Tham vấn cộng đồng và đánh giá nhu cầu
A9: Thời gian thực hiện: 1 tháng | B9: 1 tháng lương cho Giám đốc quản lý Dự án | C9: 1200 | I9: Hạn mức chi phí cán bộ dự án (Hướng dẫn của UN-EU 2022) dành cho vị trí Quản lý Dự án - bậc 1 có điều chỉnh giảm 6% do ngân sách tài trợ hạn chế.
B10: 1 tháng lương cho 2 cán bộ Dự án (hành chính) | C10: =500*2 -> 1000 | I10: Hạn mức chi phí cán bộ dự án (Hướng dẫn của UN-EU 2022) dành cho vị trí Thư ký bậc 5 có điều chỉnh giảm 6% do ngân sách tài trợ hạn chế.
B11: Công tác phí 3 ngày cho Giám đốc và 2 cán bộ Dự án | E11: =100*2*3 -> 600 | I11: Hạn mức công tác phí (Hướng dẫn của UN-EU 2022) dành cho các thành phố du lịch và chi phí taxi đi lại tại: 2 sân bay, từ sân bay Phú Bài tới Cảng Cửa Việt, vé tàu cao tốc khứ hồi ra Cồn Cỏ.
B12: 1 tháng lương cho điều phối viên địa phương | C12: =11000000/25780 -> 426.68735 | I12: Hạn mức chi phí cán bộ dự án (Hướng dẫn của UN-EU 2022) dành cho vị trí Thư ký bậc 3.
B13: 3 vé máy bay khứ hồi (Nội Bài - Phú Bài - Nội Bài) | E13: =6000000/25780*2 -> 465.47711 | I13: Vé khứ hồi Nội Bài - Phú Bài - Nội Bài của Vietjet hạng Economy
B14: Thuê phòng họp 1 ngày (bao gồm cả giải khát và thiết bị) | D14: =10000000/25780 -> 387.8976 | I14: Hạn mức chi phí thuê phòng hội nghị / hội thảo mức cao bao gồm ăn trưa (Hướng dẫn của UN-EU 2022) dành cho 11 người tại các tp du lịch.
B15: In ấn và quà tặng cho người tham gia khảo sát | G15: 541 | I15: Chi phí thiết kế và in Phiếu khảo sát theo giá thực tế; mua quà tặng (túi vải + bình giữ nhiệt thân thiện môi trường)
B16: Tổng | C16: =SUM(C9:C15) -> 2626.6874 | D16: =SUM(D9:D15) -> 387.8976 | E16: =SUM(E9:E15) -> 1065.4771 | F16: =SUM(F9:F15) -> 0 | G16: =SUM(G9:G15) -> 541 | H16: =SUM(C16:G16) -> 4621.0621
A17: 2 | B17: Nâng cao năng lực và tập huấn
A18: Thời gian thực hiện: 2 tháng | B18: 2 tháng lương cho Giám đốc quản lý Dự án | C18: =1200*2 -> 2400 | I18: Hạn mức chi phí cán bộ dự án (Hướng dẫn của UN-EU 2022) dành cho vị trí Quản lý Dự án, bậc 1 có điều chỉnh giảm 6% do ngân sách tài trợ hạn chế.
B19: 2 tháng lương cho Cán bộ Dự án | C19: =500*2*2 -> 2000 | I19: Hạn mức chi phí cán bộ dự án (Hướng dẫn của UN-EU 2022) dành cho vị trí Thư ký bậc 5 có điều chỉnh giảm 6% do ngân sách tài trợ hạn chế.
B20: Công tác phí 3 ngày cho 2 cán bộ Dự án tham gia tổ chức 2 hội thảo | E20: =100*2*3 -> 600 | I20: Hạn mức công tác phí (Hướng dẫn của UN-EU 2022) dành cho các thành phố du lịch và chi phí taxi đi lại tại 2 sân bay, từ sân bay Phú Bài tới Cảng Cửa Việt, vé tàu cao tốc ra Cồn Cỏ.
B21: 2 tháng lương cho điều phối viên địa phương | C21: =427*2 -> 854 | I21: Hạn mức chi phí cán bộ dự án (Hướng dẫn của UN-EU 2022) dành cho vị trí Thư ký bậc 3.
B22: 185 giờ lương cho Chuyên gia kỹ thuật để phát triển tài liệu đào tạo | D22: =60*74 -> 4440 | I22: Hạn mức chi phí thuê chuyên gia (Hướng dẫn của UN-EU 2022) dành cho bậc VNM3
B23: 16 giờ phí soạn giáo án và 8.5 giờ phí đào tạo cho mỗi giảng viên X 2 giảng viên (2 hội thảo) | D23: =16*74 -> 1184 | I23: Hạn mức chi phí thuê chuyên gia (Hướng dẫn của UN-EU 2022) dành cho bậc VNM3
B24: Công tác phí 3 ngày cho 1 giảng viên (1 giảng viên là người địa phương nên không phát sinh công tác phí) | E24: =100*3 -> 300 | I24: Hạn mức công tác phí (Hướng dẫn của UN-EU 2022) dành cho các thành phố du lịch và chi phí taxi đi lại tại 2 sân bay, từ sân bay Phú Bài tới Cảng Cửa Việt, vé tàu cao tốc ra Cồn Cỏ.
B25: 2 vé máy bay khứ hồi cho 2 cán bộ Dự án | E25: =6000000/25780*2 -> 465.47711 | I25: Vé khứ hồi Nội Bài - Phú Bài - Nội Bài của Vietjet hạng Economy
B26: 1 vé máy bay khứ hồi cho 1 giảng viên từ HN (1 giảng viên là người địa phương nên không phát sinh vé máy bay) | E26: =6000000/25780 -> 232.73856 | I26: Vé khứ hồi Nội Bài - Phú Bài - Nội Bài của Vietjet hạng Economy
B27: Vé máy bay khứ hồi cho 2 đại diện Bộ Tài nguyên & Môi trường - khách mời của 2 hội thảo | E27: =E26*2 -> 465.47711 | I27: Vé khứ hồi Nội Bài - Phú Bài - Nội Bài của Vietjet hạng Economy
B28: Chi phí taxi đi lại tại Cồn cỏ của 2 đại diện Bộ Tài nguyên & Môi trường & 2 đại diện Sở Tài nguyên & Môi trường tỉnh Quảng Trị | E28: 200 | I28: Chi phí taxi theo tham khảo thực tế
B29: Công tác phí 3 ngày cho 2 đại diện Bộ Tài nguyên & Môi trường | E29: =100*2*3 -> 600 | I29: Hạn mức công tác phí (Hướng dẫn của UN-EU 2022) dành cho các thành phố du lịch + chi phí taxi đưa đón sân bay và vé tàu cao tốc khứ hồi
B30: Công tác phí 3 ngày cho 2 đại diện Sở Tài nguyên & Môi trường tỉnh Quảng Trị | E30: =100*2*3 -> 600 | I30: Hạn mức công tác phí (Hướng dẫn của UN-EU 2022) dành cho các thành phố du lịch + chi phí taxi tới Cảng Cửa Việt, vé tàu cao tốc ra Cồn Cỏ.
B31: Chi phí thuê phòng 2 ngày cho 2 hội thảo (bao gồm cả ăn trưa và thiết bị) | D31: =19080000/25780*2 -> 1480.2172 | I31: Hạn mức chi phí thuê phòng hội nghị / hội thảo mức cao bao gồm ăn trưa (Hướng dẫn của UN-EU 2022) dành cho 50 người/2 hội thảo.
B32: In ấn tài liệu đào tạo (100 bộ) | G32: 500
B33: Tổng | C33: =SUM(C18:C32) -> 5254 | D33: =SUM(D18:D32) -> 7104.2172 | E33: =SUM(E18:E32) -> 3463.6928 | F33: =SUM(F18:F32) -> 0 | G33: =SUM(G18:G32) -> 500 | H33: =SUM(C33:G33) -> 16321.91
A34: 3 | B34: Phát triển hạ tầng và cung cấp vật tư
B35: Chi phí mua 100 thùng rác phân loại nhỏ kèm ny lông đựng rác cho các hộ dân và các nhà hàng trên đảo | G35: 2027 | I35: Theo tham khảo giá thị trường
B36: Chi phí mua 25 thùng rác phân loại lớn cho các nhà hàng và khu vực công cộng | G36: =2850000/25780*25+2850000/25780*25*20% -> 3316.5244 | I36: Theo tham khảo giá thị trường
B37: Chi phí mua 2 xe vận chuyển rác động cơ điện | G37: 2715.3 | I37: Theo tham khảo giá thị trường
B38: Tổng | C38: =SUM(C34:C37) -> 0 | G38: =SUM(G34:G37) -> 8058.8244 | H38: =SUM(C38:G38) -> 8058.8244
A39: 4 | B39: Xây dựng và phổ biến tài liệu hướng dẫn thu gom và quản lý chất thải cộng đồng
A40: Thời gian thực hiện: 2 tháng | B40: 185 giờ lương cho Chuyên gia kỹ thuật để phát triển Bộ tài liệu hướng dẫn quản lý rác thải | C40: =60*74 -> 4440 | I40: Hạn mức chi phí thuê chuyên gia (Hướng dẫn của UN-EU 2022) dành cho bậc VNM3
B41: Vé máy bay khứ hồi Hà Nội - Phú Bài - Hà Nội cho 2 cán bộ Dự án | E41: =6000000/25780*2 -> 465.47711 | I41: Vé khứ hồi Nội Bài - Phú Bài - Nội Bài của Vietjet hạng Economy
...
